BEGIN:VCALENDAR
VERSION:2.0
PRODID:-//TourPikeCounty.com - ECPv6.15.20//NONSGML v1.0//EN
CALSCALE:GREGORIAN
METHOD:PUBLISH
X-ORIGINAL-URL:https://tourpikecounty.com
X-WR-CALDESC:Events for TourPikeCounty.com
REFRESH-INTERVAL;VALUE=DURATION:PT1H
X-Robots-Tag:noindex
X-PUBLISHED-TTL:PT1H
BEGIN:VTIMEZONE
TZID:America/Kentucky/Louisville
BEGIN:DAYLIGHT
TZOFFSETFROM:-0500
TZOFFSETTO:-0400
TZNAME:EDT
DTSTART:20240310T070000
END:DAYLIGHT
BEGIN:STANDARD
TZOFFSETFROM:-0400
TZOFFSETTO:-0500
TZNAME:EST
DTSTART:20241103T060000
END:STANDARD
BEGIN:DAYLIGHT
TZOFFSETFROM:-0500
TZOFFSETTO:-0400
TZNAME:EDT
DTSTART:20250309T070000
END:DAYLIGHT
BEGIN:STANDARD
TZOFFSETFROM:-0400
TZOFFSETTO:-0500
TZNAME:EST
DTSTART:20251102T060000
END:STANDARD
BEGIN:DAYLIGHT
TZOFFSETFROM:-0500
TZOFFSETTO:-0400
TZNAME:EDT
DTSTART:20260308T070000
END:DAYLIGHT
BEGIN:STANDARD
TZOFFSETFROM:-0400
TZOFFSETTO:-0500
TZNAME:EST
DTSTART:20261101T060000
END:STANDARD
BEGIN:DAYLIGHT
TZOFFSETFROM:-0500
TZOFFSETTO:-0400
TZNAME:EDT
DTSTART:20270314T070000
END:DAYLIGHT
BEGIN:STANDARD
TZOFFSETFROM:-0400
TZOFFSETTO:-0500
TZNAME:EST
DTSTART:20271107T060000
END:STANDARD
END:VTIMEZONE
BEGIN:VEVENT
DTSTART;TZID=America/Kentucky/Louisville:20260411T110000
DTEND;TZID=America/Kentucky/Louisville:20260411T160000
DTSTAMP:20260420T113333
CREATED:20260126T150633Z
LAST-MODIFIED:20260126T151057Z
UID:10001639-1775905200-1775923200@tourpikecounty.com
SUMMARY:Hollers and Heroes Con 2026
DESCRIPTION:Fans of professional wrestling\, pop culture\, and live entertainment will want to circle the dates for Hollers & Heroes\, coming to the Appalachian Wireless Arena in downtown Pikeville on Friday and Saturday\, April 10–11\, 2026. \nThis two-day event blends the energy of a fan convention with the excitement of live wrestling\, plus meet-and-greet opportunities and a Friday night concert. \n\n\n                \n                \nWhat to Expect at Hollers & Heroes\nLive Professional Wrestling\nFriday night features live wrestling inside Appalachian Wireless Arena\, giving fans the chance to experience the action up close in a big-event setting. Multiple seating tiers are available. \n\nMeet & Greets\nThroughout the weekend\, attendees can take part in scheduled meet-and-greet sessions with wrestlers and special guests. It’s a great chance for photos\, autographs\, and face-to-face fan moments. \n\nLive Music Performance\nFriday night continues with a concert by Ari Lehman\, keeping the night going after the wrestling card. \n\nVendors & Fan Culture\nExpect vendor shopping and pop-culture finds to browse between sessions\, whether you’re looking for collectibles\, memorabilia\, or just something fun to take home. \n\nSchedule at a Glance\nFriday\, April 10\, 2026\n\nDoors Open: 5:00 PM\nMeet & Greet: 5:00–7:00 PM\nLive Wrestling: 7:00–9:00 PM\nAri Lehman Concert: 9:00 PM until late\n\nSaturday\, April 11\, 2026\n\nDoors Open: 11:00 AM\nMeet & Greet: 12:00–4:00 PM\n\n\nTicket Information\n\nFriday Wrestling: $30 Front Row / $20 Second Row / $15 General Admission\nSaturday General Admission: $15\nBoth Days General Admission: $20\n\nTicket availability and seating options make it easy to attend one day or enjoy the full weekend. \n\nVenue\nAppalachian Wireless Arena\n126 Main Street\nPikeville\, KY 41501 \nThe arena is located in the heart of downtown Pikeville\, within easy reach of local restaurants\, shopping\,\nand area attractions\, making it simple to turn your visit into a full weekend getaway. \n\nMake a Weekend of It in Pikeville-Pike County\, Kentucky\nWhile you’re in town for Hollers & Heroes\, stop by the Pikeville-Pike County\, KY Welcome Center for free travel information\, local exhibits\, and gift shop items highlighting the region’s history and culture. Located in the: \nHistoric Pikeville Flatiron Building\, (side elevator access\, 3rd floor)\n685 Hambley Blvd. Pikeville\, Kentucky\, 41501.\nOpen Mondays-Fridays: 9am-5pm \nPlan Your Trip: (606) 432-5063 \nWhether you’re coming for the wrestling\, the guest experiences\, or the Friday night concert\, Hollers & Heroes is an exciting reason to visit Pikeville this spring.
URL:https://tourpikecounty.com/event/hollers-and-heroes-con-2026/2026-04-11/
LOCATION:Appalachian Wireless Arena\, 126 Main St.\, Pikeville\, KY\, 41501\, United States
CATEGORIES:Appalachian Wireless Arena,Live Music,Pikeville Events,Wrestling Event
ATTACH;FMTTYPE=image/webp:https://tourpikecounty.com/wp-content/uploads/2026/01/hollers-heroes-splash-2026.webp
END:VEVENT
BEGIN:VEVENT
DTSTART;TZID=America/Kentucky/Louisville:20260410T170000
DTEND;TZID=America/Kentucky/Louisville:20260410T230000
DTSTAMP:20260420T113333
CREATED:20260126T150633Z
LAST-MODIFIED:20260126T151057Z
UID:10001638-1775840400-1775862000@tourpikecounty.com
SUMMARY:Hollers and Heroes Con 2026
DESCRIPTION:Fans of professional wrestling\, pop culture\, and live entertainment will want to circle the dates for Hollers & Heroes\, coming to the Appalachian Wireless Arena in downtown Pikeville on Friday and Saturday\, April 10–11\, 2026. \nThis two-day event blends the energy of a fan convention with the excitement of live wrestling\, plus meet-and-greet opportunities and a Friday night concert. \n\n\n                \n                \nWhat to Expect at Hollers & Heroes\nLive Professional Wrestling\nFriday night features live wrestling inside Appalachian Wireless Arena\, giving fans the chance to experience the action up close in a big-event setting. Multiple seating tiers are available. \n\nMeet & Greets\nThroughout the weekend\, attendees can take part in scheduled meet-and-greet sessions with wrestlers and special guests. It’s a great chance for photos\, autographs\, and face-to-face fan moments. \n\nLive Music Performance\nFriday night continues with a concert by Ari Lehman\, keeping the night going after the wrestling card. \n\nVendors & Fan Culture\nExpect vendor shopping and pop-culture finds to browse between sessions\, whether you’re looking for collectibles\, memorabilia\, or just something fun to take home. \n\nSchedule at a Glance\nFriday\, April 10\, 2026\n\nDoors Open: 5:00 PM\nMeet & Greet: 5:00–7:00 PM\nLive Wrestling: 7:00–9:00 PM\nAri Lehman Concert: 9:00 PM until late\n\nSaturday\, April 11\, 2026\n\nDoors Open: 11:00 AM\nMeet & Greet: 12:00–4:00 PM\n\n\nTicket Information\n\nFriday Wrestling: $30 Front Row / $20 Second Row / $15 General Admission\nSaturday General Admission: $15\nBoth Days General Admission: $20\n\nTicket availability and seating options make it easy to attend one day or enjoy the full weekend. \n\nVenue\nAppalachian Wireless Arena\n126 Main Street\nPikeville\, KY 41501 \nThe arena is located in the heart of downtown Pikeville\, within easy reach of local restaurants\, shopping\,\nand area attractions\, making it simple to turn your visit into a full weekend getaway. \n\nMake a Weekend of It in Pikeville-Pike County\, Kentucky\nWhile you’re in town for Hollers & Heroes\, stop by the Pikeville-Pike County\, KY Welcome Center for free travel information\, local exhibits\, and gift shop items highlighting the region’s history and culture. Located in the: \nHistoric Pikeville Flatiron Building\, (side elevator access\, 3rd floor)\n685 Hambley Blvd. Pikeville\, Kentucky\, 41501.\nOpen Mondays-Fridays: 9am-5pm \nPlan Your Trip: (606) 432-5063 \nWhether you’re coming for the wrestling\, the guest experiences\, or the Friday night concert\, Hollers & Heroes is an exciting reason to visit Pikeville this spring.
URL:https://tourpikecounty.com/event/hollers-and-heroes-con-2026/2026-04-10/
LOCATION:Appalachian Wireless Arena\, 126 Main St.\, Pikeville\, KY\, 41501\, United States
CATEGORIES:Appalachian Wireless Arena,Live Music,Pikeville Events,Wrestling Event
ATTACH;FMTTYPE=image/webp:https://tourpikecounty.com/wp-content/uploads/2026/01/hollers-heroes-splash-2026.webp
END:VEVENT
BEGIN:VEVENT
DTSTART;TZID=America/Kentucky/Louisville:20260404T190000
DTEND;TZID=America/Kentucky/Louisville:20260404T213000
DTSTAMP:20260420T113333
CREATED:20260219T151621Z
LAST-MODIFIED:20260219T153842Z
UID:10001644-1775329200-1775338200@tourpikecounty.com
SUMMARY:Kentucky Championship Wrestling: UPRISING
DESCRIPTION:Kentucky Championship Wrestling returns to Pike County with one of its most anticipated events of the year — UPRISING\, taking place April 4\, 2026 at The Nest in Virgie\, Kentucky. \nFollowing the explosive fallout from Ascension\, tensions are running high across the KCW roster. Alliances have fractured. Promises have been broken. Respect has been tested. Now\, it’s time to see who rises — and who falls. \nAt KCW UPRISING\, scores will be settled and championship paths will begin to take shape. The superstars of KCW step into The Nest with something to prove. Some are fighting for redemption. Others are hunting revenge. And a few may be ready to shock the entire KCW faithful. \n\n                \n                 \nWhen tradition meets toughness in Virgie\, emotions run high and fists fly even harder. \nWhether you’re a lifelong wrestling fan or looking for an action-packed night out\, KCW delivers high-energy live entertainment with unforgettable personalities\, intense rivalries\, and championship-level competition. \nMake plans to experience live professional wrestling in the heart of Virgie. \nFor event updates and match announcements\, follow Kentucky Championship Wrestling on social media.
URL:https://tourpikecounty.com/event/kentucky-championship-wrestling-uprising/
LOCATION:The Nest\, 1325 Hwy 610\, Virgie\, 41572\, United States
CATEGORIES:Wrestling Event
ATTACH;FMTTYPE=image/webp:https://tourpikecounty.com/wp-content/uploads/2026/02/uprising-splash.webp
END:VEVENT
BEGIN:VEVENT
DTSTART;TZID=America/Kentucky/Louisville:20260207T190000
DTEND;TZID=America/Kentucky/Louisville:20260207T220000
DTSTAMP:20260420T113333
CREATED:20260105T210425Z
LAST-MODIFIED:20260105T210518Z
UID:10001622-1770490800-1770501600@tourpikecounty.com
SUMMARY:KCW: Ascension Live Pro Wrestling
DESCRIPTION:The climb begins now. Eastern Kentucky wrestling fans are in for a major night of live action as Kentucky Championship Wrestling (KCW) presents Ascension on Saturday\, February 7\, 2026\, at The Nest in Virgie\, Kentucky. \nThis is more than just another wrestling event. Ascension is a moment where careers rise\,\nrivalries collide\, and legacies are tested inside the KCW ring. \nWhat to Expect at Ascension\nKCW: Ascension delivers hard-hitting professional wrestling with a card stacked from top to bottom.\nExpect intense matchups\, surprise moments\, and the electric atmosphere that only live pro wrestling can provide. \nAnnounced for Ascension\n\nLandon Hale returns to battle\nNWA Superstar Spencer Slade arrives at KCW\nBerto got his hippo back… but what’s next?\nAdam Newsome & Colby Carmichael collide with\nThe Shooter Society in a must-see Tag Team showdown\nTwo new female stars make their KCW debut\n\nEvent Details\n\nDate: Saturday\, February 7\, 2026\nLocation: The Nest – Virgie\, KY\nBell Time: 7:05 PM\n\nTickets\nTickets on sale now. \n\n$10 Admission\n(Front Row included on a first-come\, first-served basis)\n⭐ Golden Tickets – $25 (Online Only | Limited)\n\nGuaranteed Front Row Seat\nSigned Event Poster\nFREE Concessions Food & Drink\n\n\n\nDiscounts & Free Admission\n\nUniversity of Pikeville Students & Staff: $8 (with ID)\nMilitary / First Responders / Veterans: FREE\nKids 12 & Under: FREE with 1 paid adult\n\nWhere to Buy Tickets\n\nwww.KYCWrestling.com\n@ Hillbilly’s Pizza & Drive Thru\nAt the door (while supplies last)\n\nAscension isn’t just the next chapter\, it’s where stars are forged and the fight gets real.\nDon’t wait\, secure your seat now. \nCard subject to change.
URL:https://tourpikecounty.com/event/kcw-ascension-live-pro-wrestling/
LOCATION:The Nest\, 1325 Hwy 610\, Virgie\, 41572\, United States
CATEGORIES:Pike County Events,Wrestling Event
ATTACH;FMTTYPE=image/webp:https://tourpikecounty.com/wp-content/uploads/2026/01/KWC-Ascension-Splash.webp
END:VEVENT
BEGIN:VEVENT
DTSTART;TZID=America/Kentucky/Louisville:20251004T190000
DTEND;TZID=America/Kentucky/Louisville:20251004T213000
DTSTAMP:20260420T113333
CREATED:20250902T144952Z
LAST-MODIFIED:20250902T145043Z
UID:10001386-1759604400-1759613400@tourpikecounty.com
SUMMARY:KCW Presents: LAST RITES – The Biggest Halloween Party in Eastern Kentucky
DESCRIPTION:On Saturday\, October 4\, 2025\, Kentucky Championship Wrestling (KCW) returns to The Nest in Virgie\, KY\, with an event that promises to be both thrilling and unforgettable. LAST RITES is more than a wrestling show—it’s a Halloween tradition in the making\, combining hard-hitting in-ring action with the spirit of the season. \n \nA Night of Wrestling and Halloween Fun\nBell time is set for 7:05 PM\, and fans can expect KCW’s signature blend of athletic competition\, larger-than-life personalities\, and dramatic storylines. While the action inside the ring will be the centerpiece\, the Halloween theme makes this event unlike any other on the KCW calendar. \nChildren 12 and under will receive free admission if they arrive in costume. Not only will they get to enjoy the evening’s matches\, but they will also be automatically entered into a Halloween Costume Contest—a highlight that brings families into the excitement. \nTicket Information\nTickets for LAST RITES are already on sale\, and demand is expected to be high. Fans can choose from two options: \n\n\nVIP Ringside Seating – $20 \n\n\nGeneral Admission – $10 \n\n\nTickets can be purchased online at KYCWrestling.com
URL:https://tourpikecounty.com/event/kcw-presents-last-rites-the-biggest-halloween-party-in-eastern-kentucky/
LOCATION:The Nest\, 1325 Hwy 610\, Virgie\, 41572\, United States
CATEGORIES:Wrestling Event
ATTACH;FMTTYPE=image/webp:https://tourpikecounty.com/wp-content/uploads/2025/09/KY-Wrestling-Splash-2025.webp
END:VEVENT
END:VCALENDAR