BEGIN:VCALENDAR
VERSION:2.0
PRODID:-//TourPikeCounty.com - ECPv6.15.20//NONSGML v1.0//EN
CALSCALE:GREGORIAN
METHOD:PUBLISH
X-WR-CALNAME:TourPikeCounty.com
X-ORIGINAL-URL:https://tourpikecounty.com
X-WR-CALDESC:Events for TourPikeCounty.com
REFRESH-INTERVAL;VALUE=DURATION:PT1H
X-Robots-Tag:noindex
X-PUBLISHED-TTL:PT1H
BEGIN:VTIMEZONE
TZID:America/Kentucky/Louisville
BEGIN:DAYLIGHT
TZOFFSETFROM:-0500
TZOFFSETTO:-0400
TZNAME:EDT
DTSTART:20240310T070000
END:DAYLIGHT
BEGIN:STANDARD
TZOFFSETFROM:-0400
TZOFFSETTO:-0500
TZNAME:EST
DTSTART:20241103T060000
END:STANDARD
BEGIN:DAYLIGHT
TZOFFSETFROM:-0500
TZOFFSETTO:-0400
TZNAME:EDT
DTSTART:20250309T070000
END:DAYLIGHT
BEGIN:STANDARD
TZOFFSETFROM:-0400
TZOFFSETTO:-0500
TZNAME:EST
DTSTART:20251102T060000
END:STANDARD
BEGIN:DAYLIGHT
TZOFFSETFROM:-0500
TZOFFSETTO:-0400
TZNAME:EDT
DTSTART:20260308T070000
END:DAYLIGHT
BEGIN:STANDARD
TZOFFSETFROM:-0400
TZOFFSETTO:-0500
TZNAME:EST
DTSTART:20261101T060000
END:STANDARD
END:VTIMEZONE
BEGIN:VEVENT
DTSTART;TZID=America/Kentucky/Louisville:20250228T190000
DTEND;TZID=America/Kentucky/Louisville:20250228T213000
DTSTAMP:20260421T125424
CREATED:20240909T131851Z
LAST-MODIFIED:20240909T131851Z
UID:10000765-1740769200-1740778200@tourpikecounty.com
SUMMARY:Fire in the Valley: 20 Years of Gospel Music
DESCRIPTION:Join us on February 28th\, 2025\, at 7:00 PM for an unforgettable night of praise and inspiration as we celebrate 20 glorious years of gospel music at our special event\, “Fire in the Valley.” Taking place at the Belfry High School Auditorium\, this milestone evening will feature soul-stirring performances from some of gospel’s most cherished voices: Chosen 4:13\, Karen Peck & New River\, and The Guardians. \nPrepare to be moved by the uplifting harmonies and powerful messages that have made this event a tradition in our community. Whether you’ve been a part of this journey since the beginning or are joining for the first time\, you’ll find your spirit lifted and your heart warmed by the passion and energy these incredible artists bring to the stage. \nChosen 4:13 Media\n \nTickets are only $15\, so secure your spot now and be part of this legacy of faith\, music\, and celebration. Let’s gather together to fill the valley with the joy of gospel\, and ignite hearts as we’ve done for two decades. \nCome celebrate with us\, and let’s set the valley ablaze with the fire of gospel music!
URL:https://tourpikecounty.com/event/fire-in-the-valley-20-years-of-gospel-music/
LOCATION:Belfry High School\, 27678 Highway 119\, Belfry\, KY\, 41514\, United States
CATEGORIES:Live Music
ATTACH;FMTTYPE=image/webp:https://tourpikecounty.com/wp-content/uploads/2024/09/Fire-in-Valley-Splash.webp
GEO:37.6291445;-82.262944
X-APPLE-STRUCTURED-LOCATION;VALUE=URI;X-ADDRESS=Belfry High School 27678 Highway 119 Belfry KY 41514 United States;X-APPLE-RADIUS=500;X-TITLE=27678 Highway 119:geo:-82.262944,37.6291445
END:VEVENT
BEGIN:VEVENT
DTSTART;TZID=America/Kentucky/Louisville:20250214T183000
DTEND;TZID=America/Kentucky/Louisville:20250214T213000
DTSTAMP:20260421T125424
CREATED:20250127T173553Z
LAST-MODIFIED:20250127T173553Z
UID:10001273-1739557800-1739568600@tourpikecounty.com
SUMMARY:Valentines Day Murder Mystery Dinner @ The App
DESCRIPTION:Spice Up Your Valentine’s Day with a Thrilling Murder Mystery Dinner! Looking for a unique and unforgettable way to celebrate Valentine’s Day this year? Look no further! The Appalachian Center for the Arts in Pikeville is thrilled to present an evening of intrigue\, suspense\, and romance with our Valentine’s Day Murder Mystery Dinner. Join us on February 14th\, 2025 for a night that promises laughter\, excitement\, and a memorable experience for you and your special someone. \nEvent Details\n\n📅 Date: February 14\, 2025\n🕡 Schedule:\n\nDoors Open: 6:30 PM\nFood Served: 6:45 PM\nShow Begins: 7:00 PM\n\n\n📍 Location: Appalachian Center for the Arts\, 218 2nd St\, Pikeville\, KY 41501\n🎟️ Tickets: Available now at www.theapparts.org\n📞 Contact: (606) 262-4004\n\nHow to Get Your Tickets\nTickets for the Valentine’s Day Murder Mystery Dinner are selling fast! Secure your spot by purchasing tickets online at www.theapparts.org. For more information or any inquiries\, feel free to contact us at (606) 262-4004. \nEvent Schedule\n\n6:30 PM – Doors Open: Arrive early to settle in\, mingle with other guests\, and get ready for the evening ahead.\n6:45 PM – Food Served: Enjoy a delectable meal while soaking in the romantic and mysterious ambiance.\n7:00 PM – Show Begins: The murder mystery unfolds! Engage with characters\, follow the storyline\, and work together to uncover the mystery.
URL:https://tourpikecounty.com/event/valentines-day-murder-mystery-dinner-the-app/
LOCATION:The Appalachian Center for the Arts\, 218 Second Street\, Pikeville\, KY\, 41501\, United States
CATEGORIES:Pikeville Events,The Appalachian Center for the Arts
ATTACH;FMTTYPE=image/webp:https://tourpikecounty.com/wp-content/uploads/2025/01/Valentines-Day-Splash.webp
END:VEVENT
BEGIN:VEVENT
DTSTART;TZID=America/Kentucky/Louisville:20250209T120000
DTEND;TZID=America/Kentucky/Louisville:20250209T180000
DTSTAMP:20260421T125424
CREATED:20241118T215858Z
LAST-MODIFIED:20241118T215858Z
UID:10001257-1739102400-1739124000@tourpikecounty.com
SUMMARY:Big Boy Toy Show
DESCRIPTION:Gear up for an exciting weekend of unbeatable deals at the Big Boy Toy Show at the ! From February 7-9\, 2025\, the Appalachian Wireless Arena will host the Big Boy Toy Show\, an RV\, Boat\, and ATV/UTV Show bringing together the best in outdoor recreation all under one roof. Whether you’re planning your next cross-country road trip\, upgrading your off-road vehicle\, or dreaming of weekends on the water\, this event is the perfect place to kick-start your adventure. \n\nEvent Details:\n\nDates & Hours:\n\nFriday\, February 7: 3 PM – 9 PM\nSaturday\, February 8: 9 AM – 9 PM\nSunday\, February 9: Noon – 6 PM\n\n\nAdmission: $5 per person (children 12 and under are FREE!)\n\n\n\n\nWhat to Expect:\nThis exciting event will feature the latest in: \n\nRecreational Vehicles (RVs): From luxurious motorhomes to compact trailers\, you’ll find a variety of options to fit your travel style.\nAll-Terrain Vehicles (ATVs): Explore a range of ATVs built for adventure and discover great deals.\nBoats & Watercraft: Dreaming of summer days on the water? Check out boats of all sizes and styles\, from fishing vessels to sleek speedboats.\nOutdoor Gear & Accessories: Vendors will be on-site with camping gear\, outdoor equipment\, and must-have gadgets to elevate your adventures.\n\n\nVendors & Exhibitors:\nInterested in showcasing your products or services? Reserve your space now! Booth spaces are available at the following rates: \n\n10×10 booth: $500\n10×20 booth: $1\,000\n10×30 booth: $1\,500\nWith thousands of attendees expected\, this is a fantastic opportunity to connect with outdoor enthusiasts and grow your business.\n\n\nFamily-Friendly Fun:\nBring the whole family! Kids 12 and under get in free\, and there will be plenty of fun activities to keep little adventurers entertained while parents explore. \n\nPlan Your Visit:\nThe Appalachian Wireless Arena is located in the heart of downtown Pikeville\, KY\, offering easy access and convenient parking. Whether you’re a seasoned outdoor enthusiast or just curious about what’s out there\, this event is the perfect chance to kick off your outdoor season with inspiration and excitement.
URL:https://tourpikecounty.com/event/big-boy-toy-show/2025-02-09/
LOCATION:Appalachian Wireless Arena\, 126 Main St.\, Pikeville\, KY\, 41501\, United States
CATEGORIES:Appalachian Wireless Arena,Pikeville Events
END:VEVENT
BEGIN:VEVENT
DTSTART;TZID=America/Kentucky/Louisville:20250208T090000
DTEND;TZID=America/Kentucky/Louisville:20250208T210000
DTSTAMP:20260421T125424
CREATED:20241118T215858Z
LAST-MODIFIED:20241118T215858Z
UID:10001256-1739005200-1739048400@tourpikecounty.com
SUMMARY:Big Boy Toy Show
DESCRIPTION:Gear up for an exciting weekend of unbeatable deals at the Big Boy Toy Show at the ! From February 7-9\, 2025\, the Appalachian Wireless Arena will host the Big Boy Toy Show\, an RV\, Boat\, and ATV/UTV Show bringing together the best in outdoor recreation all under one roof. Whether you’re planning your next cross-country road trip\, upgrading your off-road vehicle\, or dreaming of weekends on the water\, this event is the perfect place to kick-start your adventure. \n\nEvent Details:\n\nDates & Hours:\n\nFriday\, February 7: 3 PM – 9 PM\nSaturday\, February 8: 9 AM – 9 PM\nSunday\, February 9: Noon – 6 PM\n\n\nAdmission: $5 per person (children 12 and under are FREE!)\n\n\n\n\nWhat to Expect:\nThis exciting event will feature the latest in: \n\nRecreational Vehicles (RVs): From luxurious motorhomes to compact trailers\, you’ll find a variety of options to fit your travel style.\nAll-Terrain Vehicles (ATVs): Explore a range of ATVs built for adventure and discover great deals.\nBoats & Watercraft: Dreaming of summer days on the water? Check out boats of all sizes and styles\, from fishing vessels to sleek speedboats.\nOutdoor Gear & Accessories: Vendors will be on-site with camping gear\, outdoor equipment\, and must-have gadgets to elevate your adventures.\n\n\nVendors & Exhibitors:\nInterested in showcasing your products or services? Reserve your space now! Booth spaces are available at the following rates: \n\n10×10 booth: $500\n10×20 booth: $1\,000\n10×30 booth: $1\,500\nWith thousands of attendees expected\, this is a fantastic opportunity to connect with outdoor enthusiasts and grow your business.\n\n\nFamily-Friendly Fun:\nBring the whole family! Kids 12 and under get in free\, and there will be plenty of fun activities to keep little adventurers entertained while parents explore. \n\nPlan Your Visit:\nThe Appalachian Wireless Arena is located in the heart of downtown Pikeville\, KY\, offering easy access and convenient parking. Whether you’re a seasoned outdoor enthusiast or just curious about what’s out there\, this event is the perfect chance to kick off your outdoor season with inspiration and excitement.
URL:https://tourpikecounty.com/event/big-boy-toy-show/2025-02-08/
LOCATION:Appalachian Wireless Arena\, 126 Main St.\, Pikeville\, KY\, 41501\, United States
CATEGORIES:Appalachian Wireless Arena,Pikeville Events
END:VEVENT
BEGIN:VEVENT
DTSTART;TZID=America/Kentucky/Louisville:20250207T150000
DTEND;TZID=America/Kentucky/Louisville:20250207T210000
DTSTAMP:20260421T125424
CREATED:20241118T215858Z
LAST-MODIFIED:20241118T215858Z
UID:10001255-1738940400-1738962000@tourpikecounty.com
SUMMARY:Big Boy Toy Show
DESCRIPTION:Gear up for an exciting weekend of unbeatable deals at the Big Boy Toy Show at the ! From February 7-9\, 2025\, the Appalachian Wireless Arena will host the Big Boy Toy Show\, an RV\, Boat\, and ATV/UTV Show bringing together the best in outdoor recreation all under one roof. Whether you’re planning your next cross-country road trip\, upgrading your off-road vehicle\, or dreaming of weekends on the water\, this event is the perfect place to kick-start your adventure. \n\nEvent Details:\n\nDates & Hours:\n\nFriday\, February 7: 3 PM – 9 PM\nSaturday\, February 8: 9 AM – 9 PM\nSunday\, February 9: Noon – 6 PM\n\n\nAdmission: $5 per person (children 12 and under are FREE!)\n\n\n\n\nWhat to Expect:\nThis exciting event will feature the latest in: \n\nRecreational Vehicles (RVs): From luxurious motorhomes to compact trailers\, you’ll find a variety of options to fit your travel style.\nAll-Terrain Vehicles (ATVs): Explore a range of ATVs built for adventure and discover great deals.\nBoats & Watercraft: Dreaming of summer days on the water? Check out boats of all sizes and styles\, from fishing vessels to sleek speedboats.\nOutdoor Gear & Accessories: Vendors will be on-site with camping gear\, outdoor equipment\, and must-have gadgets to elevate your adventures.\n\n\nVendors & Exhibitors:\nInterested in showcasing your products or services? Reserve your space now! Booth spaces are available at the following rates: \n\n10×10 booth: $500\n10×20 booth: $1\,000\n10×30 booth: $1\,500\nWith thousands of attendees expected\, this is a fantastic opportunity to connect with outdoor enthusiasts and grow your business.\n\n\nFamily-Friendly Fun:\nBring the whole family! Kids 12 and under get in free\, and there will be plenty of fun activities to keep little adventurers entertained while parents explore. \n\nPlan Your Visit:\nThe Appalachian Wireless Arena is located in the heart of downtown Pikeville\, KY\, offering easy access and convenient parking. Whether you’re a seasoned outdoor enthusiast or just curious about what’s out there\, this event is the perfect chance to kick off your outdoor season with inspiration and excitement.
URL:https://tourpikecounty.com/event/big-boy-toy-show/2025-02-07/
LOCATION:Appalachian Wireless Arena\, 126 Main St.\, Pikeville\, KY\, 41501\, United States
CATEGORIES:Appalachian Wireless Arena,Pikeville Events
END:VEVENT
END:VCALENDAR