BEGIN:VCALENDAR
VERSION:2.0
PRODID:-//TourPikeCounty.com - ECPv6.15.20//NONSGML v1.0//EN
CALSCALE:GREGORIAN
METHOD:PUBLISH
X-ORIGINAL-URL:https://tourpikecounty.com
X-WR-CALDESC:Events for TourPikeCounty.com
REFRESH-INTERVAL;VALUE=DURATION:PT1H
X-Robots-Tag:noindex
X-PUBLISHED-TTL:PT1H
BEGIN:VTIMEZONE
TZID:America/Kentucky/Louisville
BEGIN:DAYLIGHT
TZOFFSETFROM:-0500
TZOFFSETTO:-0400
TZNAME:EDT
DTSTART:20250309T070000
END:DAYLIGHT
BEGIN:STANDARD
TZOFFSETFROM:-0400
TZOFFSETTO:-0500
TZNAME:EST
DTSTART:20251102T060000
END:STANDARD
BEGIN:DAYLIGHT
TZOFFSETFROM:-0500
TZOFFSETTO:-0400
TZNAME:EDT
DTSTART:20260308T070000
END:DAYLIGHT
BEGIN:STANDARD
TZOFFSETFROM:-0400
TZOFFSETTO:-0500
TZNAME:EST
DTSTART:20261101T060000
END:STANDARD
BEGIN:DAYLIGHT
TZOFFSETFROM:-0500
TZOFFSETTO:-0400
TZNAME:EDT
DTSTART:20270314T070000
END:DAYLIGHT
BEGIN:STANDARD
TZOFFSETFROM:-0400
TZOFFSETTO:-0500
TZNAME:EST
DTSTART:20271107T060000
END:STANDARD
END:VTIMEZONE
BEGIN:VEVENT
DTSTART;TZID=America/Kentucky/Louisville:20260226T200000
DTEND;TZID=America/Kentucky/Louisville:20260226T223000
DTSTAMP:20260424T064122
CREATED:20251104T161235Z
LAST-MODIFIED:20251104T161235Z
UID:10001616-1772136000-1772145000@tourpikecounty.com
SUMMARY:Aaron Lewis and the Stateliners @ The Appalachian Wireless Arena
DESCRIPTION:Country-rock fans are in for a treat this winter as Aaron Lewis and the Stateliners bring their 2026 American Tour to the Appalachian Wireless Arena in downtown Pikeville\, Kentucky. The show kicks off on Wednesday\, February 26 at 8:00 p.m.\, and promises to be a night of honest\, heartfelt country music infused with genuine storytelling and American spirit. \nTickets go on sale Friday\, November 7 at 10:00 a.m.\, with prices set at $39\, $59\, $79\, and $99. Tickets can be purchased at the Community Trust Bank Box Office or online at Ticketmaster.com \n \nAbout Aaron Lewis\nAaron Lewis and the Stateliners bring a powerful and authentic blend of country music rooted deeply in American tradition and heartfelt storytelling. Fronted by Aaron Lewis\, the Vermont-born singer who rose to fame as the lead vocalist of the rock band Staind\, the Stateliners represent Lewis’s creative journey back to his country roots. His solo country career has produced multiple No. 1 Billboard country albums\, including “Town Line” (2011) and “Sinner” (2016)\, with hits that reflect true American themes and personal truths. Their performances offer an engaging mix of great songs\, captivating stories\, and patriotic anthems\, making them a standout act for any event that celebrates Americana and authentic country music. Fans of Aaron Lewis and the Stateliners enjoy a show that feels both intimate and powerful\, connecting on a deeply emotional level and showcasing Lewis’s distinctive voice and songwriting prowess. \nThis event promises to be not just a concert\, but a celebration of the American spirit through music\, featuring a band led by one of the most genuine voices in modern country music today.
URL:https://tourpikecounty.com/event/aaron-lewis-and-the-stateliners-the-appalachian-wireless-arena/
LOCATION:Appalachian Wireless Arena\, 126 Main St.\, Pikeville\, KY\, 41501\, United States
CATEGORIES:Appalachian Wireless Arena,Live Music
ATTACH;FMTTYPE=image/webp:https://tourpikecounty.com/wp-content/uploads/2025/11/aaron-lewis-splash.webp
END:VEVENT
END:VCALENDAR