BEGIN:VCALENDAR
VERSION:2.0
PRODID:-//TourPikeCounty.com - ECPv6.15.20//NONSGML v1.0//EN
CALSCALE:GREGORIAN
METHOD:PUBLISH
X-WR-CALNAME:TourPikeCounty.com
X-ORIGINAL-URL:https://tourpikecounty.com
X-WR-CALDESC:Events for TourPikeCounty.com
REFRESH-INTERVAL;VALUE=DURATION:PT1H
X-Robots-Tag:noindex
X-PUBLISHED-TTL:PT1H
BEGIN:VTIMEZONE
TZID:America/Kentucky/Louisville
BEGIN:DAYLIGHT
TZOFFSETFROM:-0500
TZOFFSETTO:-0400
TZNAME:EDT
DTSTART:20250309T070000
END:DAYLIGHT
BEGIN:STANDARD
TZOFFSETFROM:-0400
TZOFFSETTO:-0500
TZNAME:EST
DTSTART:20251102T060000
END:STANDARD
BEGIN:DAYLIGHT
TZOFFSETFROM:-0500
TZOFFSETTO:-0400
TZNAME:EDT
DTSTART:20260308T070000
END:DAYLIGHT
BEGIN:STANDARD
TZOFFSETFROM:-0400
TZOFFSETTO:-0500
TZNAME:EST
DTSTART:20261101T060000
END:STANDARD
BEGIN:DAYLIGHT
TZOFFSETFROM:-0500
TZOFFSETTO:-0400
TZNAME:EDT
DTSTART:20270314T070000
END:DAYLIGHT
BEGIN:STANDARD
TZOFFSETFROM:-0400
TZOFFSETTO:-0500
TZNAME:EST
DTSTART:20271107T060000
END:STANDARD
END:VTIMEZONE
BEGIN:VEVENT
DTSTART;TZID=America/Kentucky/Louisville:20260424T190000
DTEND;TZID=America/Kentucky/Louisville:20260424T213000
DTSTAMP:20260420T165720
CREATED:20260126T162351Z
LAST-MODIFIED:20260126T163004Z
UID:10001640-1777057200-1777066200@tourpikecounty.com
SUMMARY:Alice Cooper – Alice’s Attic Tour @ the Appalachian Wireless Arena
DESCRIPTION:Rock legend Alice Cooper is bringing his unmistakable theatrical style and decades of classic hits to the Appalachian Wireless Arena in Pikeville on Friday\, April 24. Known for high-energy performances\, dark humor\, and shock-rock spectacle\, Alice Cooper concerts are a must-see experience for rock fans of all generations. \n\nAbout the Alice’s Attic Tour\nThe Alice’s Attic Tour blends classic Alice Cooper favorites with deep cuts and signature stage theatrics that have defined his career. Fans can expect an unforgettable night of rock music paired with the visual storytelling that has made Alice Cooper one of the most influential performers in music history. \nFrom longtime fans to first-time concertgoers\, this show promises an arena-filling rock experience in the heart of Eastern Kentucky. \n\n \n\nEvent Details\n\nDate: Friday\, April 24\nVenue: Appalachian Wireless Arena\nLocation: 126 Main Street\, Pikeville\, KY 41501\n\n\nTicket Information\nTickets for Alice Cooper’s Alice’s Attic Tour are priced at: \n\n$42.50\n$55\n$75\n$95\n$125\n\nTickets go on sale this Friday and will be available at the Community Trust Bank Box Office or online through Ticketmaster.com. \n\nPlan Your Visit to Pikeville\nMake the most of your concert night by exploring downtown Pikeville before or after the show. Dining\, shopping\, and local attractions are all within walking distance of Appalachian Wireless Arena. \nVisitors are also encouraged to stop by the Pikeville-Pike County\, KY Welcome Center for free travel information\, local exhibits\, and ideas to extend their stay in Pikeville-Pike County. \nLocated in the Historic Pikeville Flatiron Building (side elevator access\, 3rd floor):\n685 Hambley Blvd. Pikeville\, Kentucky\, 41501.\nOpen Mondays-Fridays: 9am-5pm \nDon’t miss your chance to see Alice Cooper live in Pikeville as the Alice’s Attic Tour brings legendary rock to Eastern Kentucky this April.
URL:https://tourpikecounty.com/event/alice-cooper-alices-attic-tour-the-appalachian-wireless-arena/
LOCATION:Appalachian Wireless Arena\, 126 Main St.\, Pikeville\, KY\, 41501\, United States
CATEGORIES:Appalachian Wireless Arena,Live Music,Pikeville Events
ATTACH;FMTTYPE=image/webp:https://tourpikecounty.com/wp-content/uploads/2026/01/alice-cooper-splash.webp
END:VEVENT
BEGIN:VEVENT
DTSTART;TZID=America/Kentucky/Louisville:20260924T190000
DTEND;TZID=America/Kentucky/Louisville:20260924T220000
DTSTAMP:20260420T165720
CREATED:20260227T183522Z
LAST-MODIFIED:20260227T183522Z
UID:10001646-1790276400-1790287200@tourpikecounty.com
SUMMARY:Koe Wetzel: The Night Champion World Tour
DESCRIPTION:Koe Wetzel is bringing The Night Champion World Tour to the Appalachian Wireless Arena on September 24\, 2026\, and he’s bringing a heavy-hitting lineup with him. \nThe Man\, The Myth\, The Chaos\nKoe Wetzel isn’t just a country singer—he’s a force of nature. Known for his “Texas-bred\, grunge-infused” sound\, Koe has spent years blurring the lines between Southern rock\, traditional country\, and raw post-grunge energy. From the rowdy anthems like “February 28\, 2016” to the chart-topping smash “High Road\,” his music is built for the blue-collar\, the broken-hearted\, and anyone who likes their guitars loud. \nComing off his massive 2025 run\, Koe is entering this tour as the “best version of himself\,” promising a setlist that hits harder than ever. If you’ve never been to a Koe show\, expect high energy\, no apologies\, and a crowd that knows every single word. \nThe Full Stacked Lineup\nThis isn’t just a concert; it’s a showcase of the best rising grit in the industry. Joining Koe in Pikeville are: \n\n\nWyatt Flores: The Mexican-American sensation from Oklahoma bringing raw\, honest songwriting. \n\n\nBayker Blankenship: The viral powerhouse known for “Maxed Out” and his unmistakable raspy soul. \n\n\nLogan Jahnke: The Red Dirt newcomer quickly carving a path with a classic country-rock edge. \n\n\n\nTicket Information\nDon’t get left in the dust. This tour is expected to sell out fast across the country. \n\n\nEarly Access: Register now for presale codes at thenightchampionworldtour.com. \n\n\nArtist Presale: Begins March 10 at 10 AM local time. \n\n\nPublic On-Sale: Friday\, March 13 at 10 AM. \n\n\nGrab your tickets\, call your crew\, and prepare for the loudest night Pikeville has seen in years.
URL:https://tourpikecounty.com/event/koe-wetzel-the-night-champion-world-tour/
LOCATION:Appalachian Wireless Arena\, 126 Main St.\, Pikeville\, KY\, 41501\, United States
CATEGORIES:Live Music
ATTACH;FMTTYPE=image/webp:https://tourpikecounty.com/wp-content/uploads/2026/02/Koe-Wetzel-app-wireless-2026-splash.webp
END:VEVENT
END:VCALENDAR