BEGIN:VCALENDAR
VERSION:2.0
PRODID:-//TourPikeCounty.com - ECPv6.15.20//NONSGML v1.0//EN
CALSCALE:GREGORIAN
METHOD:PUBLISH
X-WR-CALNAME:TourPikeCounty.com
X-ORIGINAL-URL:https://tourpikecounty.com
X-WR-CALDESC:Events for TourPikeCounty.com
REFRESH-INTERVAL;VALUE=DURATION:PT1H
X-Robots-Tag:noindex
X-PUBLISHED-TTL:PT1H
BEGIN:VTIMEZONE
TZID:America/Kentucky/Louisville
BEGIN:DAYLIGHT
TZOFFSETFROM:-0500
TZOFFSETTO:-0400
TZNAME:EDT
DTSTART:20250309T070000
END:DAYLIGHT
BEGIN:STANDARD
TZOFFSETFROM:-0400
TZOFFSETTO:-0500
TZNAME:EST
DTSTART:20251102T060000
END:STANDARD
BEGIN:DAYLIGHT
TZOFFSETFROM:-0500
TZOFFSETTO:-0400
TZNAME:EDT
DTSTART:20260308T070000
END:DAYLIGHT
BEGIN:STANDARD
TZOFFSETFROM:-0400
TZOFFSETTO:-0500
TZNAME:EST
DTSTART:20261101T060000
END:STANDARD
BEGIN:DAYLIGHT
TZOFFSETFROM:-0500
TZOFFSETTO:-0400
TZNAME:EDT
DTSTART:20270314T070000
END:DAYLIGHT
BEGIN:STANDARD
TZOFFSETFROM:-0400
TZOFFSETTO:-0500
TZNAME:EST
DTSTART:20271107T060000
END:STANDARD
END:VTIMEZONE
BEGIN:VEVENT
DTSTART;TZID=America/Kentucky/Louisville:20260723T190000
DTEND;TZID=America/Kentucky/Louisville:20260723T213000
DTSTAMP:20260420T180450
CREATED:20260202T174355Z
LAST-MODIFIED:20260202T175939Z
UID:10001642-1784833200-1784842200@tourpikecounty.com
SUMMARY:Ella Langley: The Dandelion Tour at the Appalachian Wireless Arena
DESCRIPTION:Rising country standout Ella Langley brings The Dandelion Tour to Pikeville on Thursday\, July 23\, 2026\, with a 7:00 PM show at Appalachian Wireless Arena. Known for her bold songwriting\, modern Southern edge\, and emotionally charged performances\, Langley has quickly become one of country music’s most talked-about new voices. \nHailing from Alabama\, Langley blends raw storytelling with contemporary country-rock energy\, delivering songs that feel both deeply personal and instantly relatable. Her music often explores themes of resilience\, independence\, heartbreak\, and hard-earned confidence\, making The Dandelion Tour a fitting name for a show built around growth and grit. Fans can expect a high-energy night balanced with moments of stripped-down honesty that showcase her powerful vocals and songwriting. \nJoining Langley in Pikeville are two acclaimed special guests: Kaitlin Butts and Laci Kaye Booth. Butts brings a roots-driven\, Red Dirt-inspired sound with sharp lyrical storytelling\, while Booth adds a dreamy\, modern country-pop style that has earned her national attention. Together\, the lineup promises a full evening of standout performances from three artists shaping the future of country music. \n\n\n\nTicket Information\nTickets go on sale Friday\, February 6 at 10:00 AM and will be available at: \n\n\nCommunity Trust Bank Box Office \n\n\nTicketmaster.com \n\n\nTicket Prices: \n\n\n$122.50 \n\n\n$102.50 \n\n\n$82.50 \n\n\n$62.50 \n\n\n$52.50 \n\n\nPrices are subject to change. \n\nFor more details and ticket availability\, visit:https://www.ticketmaster.com/event/1600643DF2A8BFC1 \nWhether you’re a longtime country fan or just discovering Ella Langley’s music\, The Dandelion Tour in Pikeville is set to be one of the summer’s must-see live shows at Appalachian Wireless Arena.
URL:https://tourpikecounty.com/event/ella-langley-the-dandelion-tour-at-the-appalachian-wireless-arena/
LOCATION:Appalachian Wireless Arena\, 126 Main St.\, Pikeville\, KY\, 41501\, United States
CATEGORIES:Appalachian Wireless Arena,Live Music,Pikeville Events
ATTACH;FMTTYPE=image/webp:https://tourpikecounty.com/wp-content/uploads/2026/02/ella-splash.webp
END:VEVENT
END:VCALENDAR