BEGIN:VCALENDAR
VERSION:2.0
PRODID:-//TourPikeCounty.com - ECPv6.15.20//NONSGML v1.0//EN
CALSCALE:GREGORIAN
METHOD:PUBLISH
X-WR-CALNAME:TourPikeCounty.com
X-ORIGINAL-URL:https://tourpikecounty.com
X-WR-CALDESC:Events for TourPikeCounty.com
REFRESH-INTERVAL;VALUE=DURATION:PT1H
X-Robots-Tag:noindex
X-PUBLISHED-TTL:PT1H
BEGIN:VTIMEZONE
TZID:America/Kentucky/Louisville
BEGIN:DAYLIGHT
TZOFFSETFROM:-0500
TZOFFSETTO:-0400
TZNAME:EDT
DTSTART:20250309T070000
END:DAYLIGHT
BEGIN:STANDARD
TZOFFSETFROM:-0400
TZOFFSETTO:-0500
TZNAME:EST
DTSTART:20251102T060000
END:STANDARD
BEGIN:DAYLIGHT
TZOFFSETFROM:-0500
TZOFFSETTO:-0400
TZNAME:EDT
DTSTART:20260308T070000
END:DAYLIGHT
BEGIN:STANDARD
TZOFFSETFROM:-0400
TZOFFSETTO:-0500
TZNAME:EST
DTSTART:20261101T060000
END:STANDARD
BEGIN:DAYLIGHT
TZOFFSETFROM:-0500
TZOFFSETTO:-0400
TZNAME:EDT
DTSTART:20270314T070000
END:DAYLIGHT
BEGIN:STANDARD
TZOFFSETFROM:-0400
TZOFFSETTO:-0500
TZNAME:EST
DTSTART:20271107T060000
END:STANDARD
END:VTIMEZONE
BEGIN:VEVENT
DTSTART;VALUE=DATE:20260822
DTEND;VALUE=DATE:20260825
DTSTAMP:20260425T064231
CREATED:20250619T165123Z
LAST-MODIFIED:20260424T162200Z
UID:10001348-1787356800-1787615999@tourpikecounty.com
SUMMARY:Coal Country Tattoo Expo 2026
DESCRIPTION:The Coal Country Tattoo Expo is set to return to the Appalachian Wireless Arena in downtown Pikeville\, Kentucky\, August 22–24\, 2026\, bringing a weekend of tattoo artistry\, creativity\, and Appalachian culture to the heart of the mountains. \nHosted by Small Town Tattoos\, the Coal Country Tattoo Expo celebrates the talent and style of tattoo artists while giving visitors the chance to experience the energy of a live tattoo convention right here in Eastern Kentucky. Whether you are a tattoo enthusiast\, an artist\, or simply curious about the world of body art\, this event offers a unique opportunity to explore tattoo culture in a welcoming and exciting setting. \nGuests can expect a weekend centered around tattoo artistry\, artist booths\, live tattooing\, and the creative spirit that makes this event such a standout experience in downtown Pikeville. The expo brings together artists\, collectors\, and fans for three days inside one of the region’s premier event venues. \n\n		\n		\n			\n				\n			\n			\n				\n			\n			\n				\n			\n			\n				\n			\n			\n		\n\n\nEvent Location\nAppalachian Wireless Arena126 Main StreetPikeville\, KY 41501 \nEvent Dates\nAugust 22–24\, 2026 \nFor event details\, admission information\, booth space questions\, and official updates\, visit the Appalachian Wireless Arena website. The arena’s existing event listing notes the venue address and contact information for questions or booth space\, though the current page I found still appears to reference the 2025 listing. \nWhether you are planning to get new ink\, meet talented artists\, or simply take in the sights and sounds of the tattoo community\, the Coal Country Tattoo Expo is a great reason to visit Pikeville and experience a creative weekend in the heart of Appalachia.
URL:https://tourpikecounty.com/event/coal-country-tattoo-expo/
LOCATION:Appalachian Wireless Arena\, 126 Main St.\, Pikeville\, KY\, 41501\, United States
CATEGORIES:Appalachian Wireless Arena,Pikeville Events
ATTACH;FMTTYPE=image/webp:https://tourpikecounty.com/wp-content/uploads/2025/06/tattoo-expo-splash.webp
END:VEVENT
END:VCALENDAR