BEGIN:VCALENDAR
VERSION:2.0
PRODID:-//TourPikeCounty.com - ECPv6.15.20//NONSGML v1.0//EN
CALSCALE:GREGORIAN
METHOD:PUBLISH
X-ORIGINAL-URL:https://tourpikecounty.com
X-WR-CALDESC:Events for TourPikeCounty.com
REFRESH-INTERVAL;VALUE=DURATION:PT1H
X-Robots-Tag:noindex
X-PUBLISHED-TTL:PT1H
BEGIN:VTIMEZONE
TZID:America/Kentucky/Louisville
BEGIN:DAYLIGHT
TZOFFSETFROM:-0500
TZOFFSETTO:-0400
TZNAME:EDT
DTSTART:20250309T070000
END:DAYLIGHT
BEGIN:STANDARD
TZOFFSETFROM:-0400
TZOFFSETTO:-0500
TZNAME:EST
DTSTART:20251102T060000
END:STANDARD
BEGIN:DAYLIGHT
TZOFFSETFROM:-0500
TZOFFSETTO:-0400
TZNAME:EDT
DTSTART:20260308T070000
END:DAYLIGHT
BEGIN:STANDARD
TZOFFSETFROM:-0400
TZOFFSETTO:-0500
TZNAME:EST
DTSTART:20261101T060000
END:STANDARD
BEGIN:DAYLIGHT
TZOFFSETFROM:-0500
TZOFFSETTO:-0400
TZNAME:EDT
DTSTART:20270314T070000
END:DAYLIGHT
BEGIN:STANDARD
TZOFFSETFROM:-0400
TZOFFSETTO:-0500
TZNAME:EST
DTSTART:20271107T060000
END:STANDARD
END:VTIMEZONE
BEGIN:VEVENT
DTSTART;TZID=America/Kentucky/Louisville:20260425T180000
DTEND;TZID=America/Kentucky/Louisville:20260425T210000
DTSTAMP:20260420T090711
CREATED:20250218T202941Z
LAST-MODIFIED:20260114T152506Z
UID:10001627-1777140000-1777150800@tourpikecounty.com
SUMMARY:Rockin A Ranch Rodeo Series 2026
DESCRIPTION:Join Us for the 2026 Bull Riding Season at Rockin’ A Ranch in Pikeville\, Kentucky! Are you ready to feel the adrenaline rush of live bull riding? Gather your friends and family and head over to Rockin’ A Ranch for an unforgettable day of heart-pounding excitement! Check out our 2026 schedule and mark your calendars for all the action-packed dates. \n2026 Pikeville Schedule\n\nApril 25 – Pikeville\, KY\nMay 16 – Pikeville\, KY\nJune 27 – Pikeville\, KY\nJuly 18 – Pikeville\, KY\nAugust 1 – Pikeville\, KY\nSeptember 12 – Pikeville\, KY\nOctober 3 – Pikeville\, KY\n\nRockin A Bucking Bulls Pikeville Event Flyers\n                \n                \n2026 Away Schedule\n\nJune 9–10 – Lexington\, KY\nMay 22–23 – Greenville\, KY\nJune 5–6 – Charleston\, WV\nJune 12–13 – Louisville\, KY\nJune 19–20 – Chillicothe\, OH\nJuly 10–11 – Old Washington\, OH\nJuly 24–25 – East Bank\, WV\nAugust 7–8 – Campton\, KY\nAugust 14–15 – Summersville\, WV\nAugust 21–22 – Barboursville\, WV\nAugust 28–29 – Dayton\, OH\nSeptember 18–19 – Hilliard\, OH\nSeptember 25-26 – Charleston\, WV\n\n  \n \n\n\n\n\n\n  \n\n\nContact Information\nFor questions or more details\, reach out to Scott Adams: \n\nFacebook Messaging\nPhone: 606-794-6906\n\nDon’t miss out on the 2026 bull riding action! Whether you’re gearing up to ride or cheering from the stands\, it’s a day you won’t forget. We can’t wait to see you at Rockin’ A Ranch for a season of thrills\, spills\, and unforgettable memories. See you there!
URL:https://tourpikecounty.com/event/rockin-a-ranch-rodeo-series-2026/2026-04-25/
LOCATION:Rockin’ A Ranch\, 3381 St. Hwy. 194 W.\, Pikeville\, KY\, 41501\, United States
CATEGORIES:Pikeville Events
ATTACH;FMTTYPE=image/webp:https://tourpikecounty.com/wp-content/uploads/2025/02/rockin-bulls-splash-2026.webp
END:VEVENT
BEGIN:VEVENT
DTSTART;TZID=America/Kentucky/Louisville:20260508T190000
DTEND;TZID=America/Kentucky/Louisville:20260508T213000
DTSTAMP:20260420T090711
CREATED:20251021T181747Z
LAST-MODIFIED:20251021T183150Z
UID:10001615-1778266800-1778275800@tourpikecounty.com
SUMMARY:An Evening with Larry the Cable Guy – Appalachian Wireless Arena
DESCRIPTION:Pikeville’s Appalachian Wireless Arena is celebrating 20 years of unforgettable performances\, and the celebration just got a whole lot funnier. Get ready for a night of laughter as Larry the Cable Guy brings his iconic humor to Pikeville on Thursday\, May 8\, 2026\, at 7 PM. \nKnown for his blue-collar comedy style\, quick wit\, and famous catchphrase “Git-R-Done!”\, Larry the Cable Guy has entertained audiences across the country for decades. From his stand-up specials and television appearances to his role as Mater in Disney-Pixar’s Cars films\, Larry’s unique brand of humor continues to connect with audiences who enjoy a good laugh and a little Southern satire. \nPlease note that this show is rated PG-13 and intended for mature audiences. Parental discretion is advised. \nThis special event is part of the Appalachian Wireless Arena’s 20th Anniversary Celebration\, marking two decades of world-class entertainment right here in the heart of Eastern Kentucky. Since opening in 2005\, the arena has hosted major concerts\, sporting events\, and community gatherings that have helped make downtown Pikeville a premier entertainment destination. \nEvent Details\nDate: Thursday\, May 8\, 2026Time: 7 PMTickets: On sale Friday\, October 24 at 10 AMPrices start at $39Rating: PG-13 showLocation: Appalachian Wireless Arena\, Pikeville\, KY \nTickets will be available at the Community Trust Bank Box Office or online at Ticketmaster.com
URL:https://tourpikecounty.com/event/an-evening-with-larry-the-cable-guy-appalachian-wireless-arena/
LOCATION:Appalachian Wireless Arena\, 126 Main St.\, Pikeville\, KY\, 41501\, United States
CATEGORIES:Appalachian Wireless Arena,Pikeville Events
ATTACH;FMTTYPE=image/webp:https://tourpikecounty.com/wp-content/uploads/2025/10/Larry-the-cable-guy-splash.webp
END:VEVENT
BEGIN:VEVENT
DTSTART;TZID=America/Kentucky/Louisville:20260516T180000
DTEND;TZID=America/Kentucky/Louisville:20260516T210000
DTSTAMP:20260420T090711
CREATED:20250218T202941Z
LAST-MODIFIED:20260114T152506Z
UID:10001634-1778954400-1778965200@tourpikecounty.com
SUMMARY:Rockin A Ranch Rodeo Series 2026
DESCRIPTION:Join Us for the 2026 Bull Riding Season at Rockin’ A Ranch in Pikeville\, Kentucky! Are you ready to feel the adrenaline rush of live bull riding? Gather your friends and family and head over to Rockin’ A Ranch for an unforgettable day of heart-pounding excitement! Check out our 2026 schedule and mark your calendars for all the action-packed dates. \n2026 Pikeville Schedule\n\nApril 25 – Pikeville\, KY\nMay 16 – Pikeville\, KY\nJune 27 – Pikeville\, KY\nJuly 18 – Pikeville\, KY\nAugust 1 – Pikeville\, KY\nSeptember 12 – Pikeville\, KY\nOctober 3 – Pikeville\, KY\n\nRockin A Bucking Bulls Pikeville Event Flyers\n                \n                \n2026 Away Schedule\n\nJune 9–10 – Lexington\, KY\nMay 22–23 – Greenville\, KY\nJune 5–6 – Charleston\, WV\nJune 12–13 – Louisville\, KY\nJune 19–20 – Chillicothe\, OH\nJuly 10–11 – Old Washington\, OH\nJuly 24–25 – East Bank\, WV\nAugust 7–8 – Campton\, KY\nAugust 14–15 – Summersville\, WV\nAugust 21–22 – Barboursville\, WV\nAugust 28–29 – Dayton\, OH\nSeptember 18–19 – Hilliard\, OH\nSeptember 25-26 – Charleston\, WV\n\n  \n \n\n\n\n\n\n  \n\n\nContact Information\nFor questions or more details\, reach out to Scott Adams: \n\nFacebook Messaging\nPhone: 606-794-6906\n\nDon’t miss out on the 2026 bull riding action! Whether you’re gearing up to ride or cheering from the stands\, it’s a day you won’t forget. We can’t wait to see you at Rockin’ A Ranch for a season of thrills\, spills\, and unforgettable memories. See you there!
URL:https://tourpikecounty.com/event/rockin-a-ranch-rodeo-series-2026/2026-05-16/
LOCATION:Rockin’ A Ranch\, 3381 St. Hwy. 194 W.\, Pikeville\, KY\, 41501\, United States
CATEGORIES:Pikeville Events
ATTACH;FMTTYPE=image/webp:https://tourpikecounty.com/wp-content/uploads/2025/02/rockin-bulls-splash-2026.webp
END:VEVENT
BEGIN:VEVENT
DTSTART;TZID=America/Kentucky/Louisville:20260606T120000
DTEND;TZID=America/Kentucky/Louisville:20260606T200000
DTSTAMP:20260420T090711
CREATED:20260130T164200Z
LAST-MODIFIED:20260130T164200Z
UID:10001641-1780747200-1780776000@tourpikecounty.com
SUMMARY:One Accord Gospel Singing Festival 2026
DESCRIPTION:Pikeville will once again host a full day of gospel music\, fellowship\, and community when the One Accord Gospel Singing Festival returns on Saturday\, June 6\, 2026\, at Pikeville City Park. \nRunning from 12:00 p.m. to 8:00 p.m.\, this free outdoor event brings together gospel singers and listeners for an uplifting day centered on faith\, praise\, and togetherness. Admission is free\, making it an easy and welcoming event for families\, church groups\, and anyone looking to enjoy live gospel music in a relaxed setting. \nEvent Details \n\n\nDate: Saturday\, June 6\, 2026 \n\n\nTime: 12:00 p.m. – 8:00 p.m. \n\n\nLocation: Pikeville City Park\, 150 Huffman Ave.\, Pikeville\, KY 41501 \n\n\nAdmission: Free \n\n\nThroughout the day\, performers will take the stage to share gospel music that reflects themes of hope\, worship\, and encouragement. The park setting allows attendees to enjoy the music at their own pace\, whether staying for a few performances or settling in for the full day. \nWhat to Expect\n\n\nLive Gospel Music: A lineup of singers and groups delivering heartfelt performances throughout the afternoon and evening \n\n\nRelaxed Outdoor Setting: Guests are encouraged to bring lawn chairs and enjoy the music comfortably \n\n\nOn-Site Concessions: Food and refreshments will be available during the event \n\n\nThe One Accord Gospel Singing Festival is designed to be welcoming and family-friendly\, offering a positive atmosphere where music and faith take center stage. Whether gospel music is a long-time favorite or a new experience\, the festival provides a meaningful way to spend a summer Saturday in Pikeville. \nPlan to attend\, bring a chair\, and enjoy a day of music and fellowship at Pikeville City Park on June 6.
URL:https://tourpikecounty.com/event/one-accord-gospel-singing-festival-2026/
LOCATION:Pikeville City Park\, Huffman Ave.\, Pikeville\, KY\, 41501\, United States
CATEGORIES:Live Music,Pikeville Events
ATTACH;FMTTYPE=image/webp:https://tourpikecounty.com/wp-content/uploads/2026/01/one-accord-splash.webp
GEO:37.477681;-82.5185187
X-APPLE-STRUCTURED-LOCATION;VALUE=URI;X-ADDRESS=Pikeville City Park Huffman Ave. Pikeville KY 41501 United States;X-APPLE-RADIUS=500;X-TITLE=Huffman Ave.:geo:-82.5185187,37.477681
END:VEVENT
BEGIN:VEVENT
DTSTART;TZID=America/Kentucky/Louisville:20260627T180000
DTEND;TZID=America/Kentucky/Louisville:20260627T210000
DTSTAMP:20260420T090711
CREATED:20250218T202941Z
LAST-MODIFIED:20260114T152506Z
UID:10001635-1782583200-1782594000@tourpikecounty.com
SUMMARY:Rockin A Ranch Rodeo Series 2026
DESCRIPTION:Join Us for the 2026 Bull Riding Season at Rockin’ A Ranch in Pikeville\, Kentucky! Are you ready to feel the adrenaline rush of live bull riding? Gather your friends and family and head over to Rockin’ A Ranch for an unforgettable day of heart-pounding excitement! Check out our 2026 schedule and mark your calendars for all the action-packed dates. \n2026 Pikeville Schedule\n\nApril 25 – Pikeville\, KY\nMay 16 – Pikeville\, KY\nJune 27 – Pikeville\, KY\nJuly 18 – Pikeville\, KY\nAugust 1 – Pikeville\, KY\nSeptember 12 – Pikeville\, KY\nOctober 3 – Pikeville\, KY\n\nRockin A Bucking Bulls Pikeville Event Flyers\n                \n                \n2026 Away Schedule\n\nJune 9–10 – Lexington\, KY\nMay 22–23 – Greenville\, KY\nJune 5–6 – Charleston\, WV\nJune 12–13 – Louisville\, KY\nJune 19–20 – Chillicothe\, OH\nJuly 10–11 – Old Washington\, OH\nJuly 24–25 – East Bank\, WV\nAugust 7–8 – Campton\, KY\nAugust 14–15 – Summersville\, WV\nAugust 21–22 – Barboursville\, WV\nAugust 28–29 – Dayton\, OH\nSeptember 18–19 – Hilliard\, OH\nSeptember 25-26 – Charleston\, WV\n\n  \n \n\n\n\n\n\n  \n\n\nContact Information\nFor questions or more details\, reach out to Scott Adams: \n\nFacebook Messaging\nPhone: 606-794-6906\n\nDon’t miss out on the 2026 bull riding action! Whether you’re gearing up to ride or cheering from the stands\, it’s a day you won’t forget. We can’t wait to see you at Rockin’ A Ranch for a season of thrills\, spills\, and unforgettable memories. See you there!
URL:https://tourpikecounty.com/event/rockin-a-ranch-rodeo-series-2026/2026-06-27/
LOCATION:Rockin’ A Ranch\, 3381 St. Hwy. 194 W.\, Pikeville\, KY\, 41501\, United States
CATEGORIES:Pikeville Events
ATTACH;FMTTYPE=image/webp:https://tourpikecounty.com/wp-content/uploads/2025/02/rockin-bulls-splash-2026.webp
END:VEVENT
BEGIN:VEVENT
DTSTART;TZID=America/Kentucky/Louisville:20260718T180000
DTEND;TZID=America/Kentucky/Louisville:20260718T210000
DTSTAMP:20260420T090711
CREATED:20250218T202941Z
LAST-MODIFIED:20260114T152506Z
UID:10001636-1784397600-1784408400@tourpikecounty.com
SUMMARY:Rockin A Ranch Rodeo Series 2026
DESCRIPTION:Join Us for the 2026 Bull Riding Season at Rockin’ A Ranch in Pikeville\, Kentucky! Are you ready to feel the adrenaline rush of live bull riding? Gather your friends and family and head over to Rockin’ A Ranch for an unforgettable day of heart-pounding excitement! Check out our 2026 schedule and mark your calendars for all the action-packed dates. \n2026 Pikeville Schedule\n\nApril 25 – Pikeville\, KY\nMay 16 – Pikeville\, KY\nJune 27 – Pikeville\, KY\nJuly 18 – Pikeville\, KY\nAugust 1 – Pikeville\, KY\nSeptember 12 – Pikeville\, KY\nOctober 3 – Pikeville\, KY\n\nRockin A Bucking Bulls Pikeville Event Flyers\n                \n                \n2026 Away Schedule\n\nJune 9–10 – Lexington\, KY\nMay 22–23 – Greenville\, KY\nJune 5–6 – Charleston\, WV\nJune 12–13 – Louisville\, KY\nJune 19–20 – Chillicothe\, OH\nJuly 10–11 – Old Washington\, OH\nJuly 24–25 – East Bank\, WV\nAugust 7–8 – Campton\, KY\nAugust 14–15 – Summersville\, WV\nAugust 21–22 – Barboursville\, WV\nAugust 28–29 – Dayton\, OH\nSeptember 18–19 – Hilliard\, OH\nSeptember 25-26 – Charleston\, WV\n\n  \n \n\n\n\n\n\n  \n\n\nContact Information\nFor questions or more details\, reach out to Scott Adams: \n\nFacebook Messaging\nPhone: 606-794-6906\n\nDon’t miss out on the 2026 bull riding action! Whether you’re gearing up to ride or cheering from the stands\, it’s a day you won’t forget. We can’t wait to see you at Rockin’ A Ranch for a season of thrills\, spills\, and unforgettable memories. See you there!
URL:https://tourpikecounty.com/event/rockin-a-ranch-rodeo-series-2026/2026-07-18/
LOCATION:Rockin’ A Ranch\, 3381 St. Hwy. 194 W.\, Pikeville\, KY\, 41501\, United States
CATEGORIES:Pikeville Events
ATTACH;FMTTYPE=image/webp:https://tourpikecounty.com/wp-content/uploads/2025/02/rockin-bulls-splash-2026.webp
END:VEVENT
BEGIN:VEVENT
DTSTART;TZID=America/Kentucky/Louisville:20260801T180000
DTEND;TZID=America/Kentucky/Louisville:20260801T210000
DTSTAMP:20260420T090711
CREATED:20250218T202941Z
LAST-MODIFIED:20260114T152506Z
UID:10001637-1785607200-1785618000@tourpikecounty.com
SUMMARY:Rockin A Ranch Rodeo Series 2026
DESCRIPTION:Join Us for the 2026 Bull Riding Season at Rockin’ A Ranch in Pikeville\, Kentucky! Are you ready to feel the adrenaline rush of live bull riding? Gather your friends and family and head over to Rockin’ A Ranch for an unforgettable day of heart-pounding excitement! Check out our 2026 schedule and mark your calendars for all the action-packed dates. \n2026 Pikeville Schedule\n\nApril 25 – Pikeville\, KY\nMay 16 – Pikeville\, KY\nJune 27 – Pikeville\, KY\nJuly 18 – Pikeville\, KY\nAugust 1 – Pikeville\, KY\nSeptember 12 – Pikeville\, KY\nOctober 3 – Pikeville\, KY\n\nRockin A Bucking Bulls Pikeville Event Flyers\n                \n                \n2026 Away Schedule\n\nJune 9–10 – Lexington\, KY\nMay 22–23 – Greenville\, KY\nJune 5–6 – Charleston\, WV\nJune 12–13 – Louisville\, KY\nJune 19–20 – Chillicothe\, OH\nJuly 10–11 – Old Washington\, OH\nJuly 24–25 – East Bank\, WV\nAugust 7–8 – Campton\, KY\nAugust 14–15 – Summersville\, WV\nAugust 21–22 – Barboursville\, WV\nAugust 28–29 – Dayton\, OH\nSeptember 18–19 – Hilliard\, OH\nSeptember 25-26 – Charleston\, WV\n\n  \n \n\n\n\n\n\n  \n\n\nContact Information\nFor questions or more details\, reach out to Scott Adams: \n\nFacebook Messaging\nPhone: 606-794-6906\n\nDon’t miss out on the 2026 bull riding action! Whether you’re gearing up to ride or cheering from the stands\, it’s a day you won’t forget. We can’t wait to see you at Rockin’ A Ranch for a season of thrills\, spills\, and unforgettable memories. See you there!
URL:https://tourpikecounty.com/event/rockin-a-ranch-rodeo-series-2026/2026-08-01/
LOCATION:Rockin’ A Ranch\, 3381 St. Hwy. 194 W.\, Pikeville\, KY\, 41501\, United States
CATEGORIES:Pikeville Events
ATTACH;FMTTYPE=image/webp:https://tourpikecounty.com/wp-content/uploads/2025/02/rockin-bulls-splash-2026.webp
END:VEVENT
BEGIN:VEVENT
DTSTART;TZID=America/Kentucky/Louisville:20260912T180000
DTEND;TZID=America/Kentucky/Louisville:20260912T210000
DTSTAMP:20260420T090711
CREATED:20250218T202941Z
LAST-MODIFIED:20260114T152506Z
UID:10001632-1789236000-1789246800@tourpikecounty.com
SUMMARY:Rockin A Ranch Rodeo Series 2026
DESCRIPTION:Join Us for the 2026 Bull Riding Season at Rockin’ A Ranch in Pikeville\, Kentucky! Are you ready to feel the adrenaline rush of live bull riding? Gather your friends and family and head over to Rockin’ A Ranch for an unforgettable day of heart-pounding excitement! Check out our 2026 schedule and mark your calendars for all the action-packed dates. \n2026 Pikeville Schedule\n\nApril 25 – Pikeville\, KY\nMay 16 – Pikeville\, KY\nJune 27 – Pikeville\, KY\nJuly 18 – Pikeville\, KY\nAugust 1 – Pikeville\, KY\nSeptember 12 – Pikeville\, KY\nOctober 3 – Pikeville\, KY\n\nRockin A Bucking Bulls Pikeville Event Flyers\n                \n                \n2026 Away Schedule\n\nJune 9–10 – Lexington\, KY\nMay 22–23 – Greenville\, KY\nJune 5–6 – Charleston\, WV\nJune 12–13 – Louisville\, KY\nJune 19–20 – Chillicothe\, OH\nJuly 10–11 – Old Washington\, OH\nJuly 24–25 – East Bank\, WV\nAugust 7–8 – Campton\, KY\nAugust 14–15 – Summersville\, WV\nAugust 21–22 – Barboursville\, WV\nAugust 28–29 – Dayton\, OH\nSeptember 18–19 – Hilliard\, OH\nSeptember 25-26 – Charleston\, WV\n\n  \n \n\n\n\n\n\n  \n\n\nContact Information\nFor questions or more details\, reach out to Scott Adams: \n\nFacebook Messaging\nPhone: 606-794-6906\n\nDon’t miss out on the 2026 bull riding action! Whether you’re gearing up to ride or cheering from the stands\, it’s a day you won’t forget. We can’t wait to see you at Rockin’ A Ranch for a season of thrills\, spills\, and unforgettable memories. See you there!
URL:https://tourpikecounty.com/event/rockin-a-ranch-rodeo-series-2026/2026-09-12/
LOCATION:Rockin’ A Ranch\, 3381 St. Hwy. 194 W.\, Pikeville\, KY\, 41501\, United States
CATEGORIES:Pikeville Events
ATTACH;FMTTYPE=image/webp:https://tourpikecounty.com/wp-content/uploads/2025/02/rockin-bulls-splash-2026.webp
END:VEVENT
BEGIN:VEVENT
DTSTART;TZID=America/Kentucky/Louisville:20261003T180000
DTEND;TZID=America/Kentucky/Louisville:20261003T210000
DTSTAMP:20260420T090711
CREATED:20250218T202941Z
LAST-MODIFIED:20260114T152506Z
UID:10001633-1791050400-1791061200@tourpikecounty.com
SUMMARY:Rockin A Ranch Rodeo Series 2026
DESCRIPTION:Join Us for the 2026 Bull Riding Season at Rockin’ A Ranch in Pikeville\, Kentucky! Are you ready to feel the adrenaline rush of live bull riding? Gather your friends and family and head over to Rockin’ A Ranch for an unforgettable day of heart-pounding excitement! Check out our 2026 schedule and mark your calendars for all the action-packed dates. \n2026 Pikeville Schedule\n\nApril 25 – Pikeville\, KY\nMay 16 – Pikeville\, KY\nJune 27 – Pikeville\, KY\nJuly 18 – Pikeville\, KY\nAugust 1 – Pikeville\, KY\nSeptember 12 – Pikeville\, KY\nOctober 3 – Pikeville\, KY\n\nRockin A Bucking Bulls Pikeville Event Flyers\n                \n                \n2026 Away Schedule\n\nJune 9–10 – Lexington\, KY\nMay 22–23 – Greenville\, KY\nJune 5–6 – Charleston\, WV\nJune 12–13 – Louisville\, KY\nJune 19–20 – Chillicothe\, OH\nJuly 10–11 – Old Washington\, OH\nJuly 24–25 – East Bank\, WV\nAugust 7–8 – Campton\, KY\nAugust 14–15 – Summersville\, WV\nAugust 21–22 – Barboursville\, WV\nAugust 28–29 – Dayton\, OH\nSeptember 18–19 – Hilliard\, OH\nSeptember 25-26 – Charleston\, WV\n\n  \n \n\n\n\n\n\n  \n\n\nContact Information\nFor questions or more details\, reach out to Scott Adams: \n\nFacebook Messaging\nPhone: 606-794-6906\n\nDon’t miss out on the 2026 bull riding action! Whether you’re gearing up to ride or cheering from the stands\, it’s a day you won’t forget. We can’t wait to see you at Rockin’ A Ranch for a season of thrills\, spills\, and unforgettable memories. See you there!
URL:https://tourpikecounty.com/event/rockin-a-ranch-rodeo-series-2026/2026-10-03/
LOCATION:Rockin’ A Ranch\, 3381 St. Hwy. 194 W.\, Pikeville\, KY\, 41501\, United States
CATEGORIES:Pikeville Events
ATTACH;FMTTYPE=image/webp:https://tourpikecounty.com/wp-content/uploads/2025/02/rockin-bulls-splash-2026.webp
END:VEVENT
END:VCALENDAR