BEGIN:VCALENDAR
VERSION:2.0
PRODID:-//TourPikeCounty.com - ECPv6.15.20//NONSGML v1.0//EN
CALSCALE:GREGORIAN
METHOD:PUBLISH
X-WR-CALNAME:TourPikeCounty.com
X-ORIGINAL-URL:https://tourpikecounty.com
X-WR-CALDESC:Events for TourPikeCounty.com
REFRESH-INTERVAL;VALUE=DURATION:PT1H
X-Robots-Tag:noindex
X-PUBLISHED-TTL:PT1H
BEGIN:VTIMEZONE
TZID:America/Kentucky/Louisville
BEGIN:DAYLIGHT
TZOFFSETFROM:-0500
TZOFFSETTO:-0400
TZNAME:EDT
DTSTART:20250309T070000
END:DAYLIGHT
BEGIN:STANDARD
TZOFFSETFROM:-0400
TZOFFSETTO:-0500
TZNAME:EST
DTSTART:20251102T060000
END:STANDARD
BEGIN:DAYLIGHT
TZOFFSETFROM:-0500
TZOFFSETTO:-0400
TZNAME:EDT
DTSTART:20260308T070000
END:DAYLIGHT
BEGIN:STANDARD
TZOFFSETFROM:-0400
TZOFFSETTO:-0500
TZNAME:EST
DTSTART:20261101T060000
END:STANDARD
BEGIN:DAYLIGHT
TZOFFSETFROM:-0500
TZOFFSETTO:-0400
TZNAME:EDT
DTSTART:20270314T070000
END:DAYLIGHT
BEGIN:STANDARD
TZOFFSETFROM:-0400
TZOFFSETTO:-0500
TZNAME:EST
DTSTART:20271107T060000
END:STANDARD
END:VTIMEZONE
BEGIN:VEVENT
DTSTART;TZID=America/Kentucky/Louisville:20260228T190000
DTEND;TZID=America/Kentucky/Louisville:20260228T213000
DTSTAMP:20260419T121115
CREATED:20250912T152126Z
LAST-MODIFIED:20250912T152126Z
UID:10001612-1772305200-1772314200@tourpikecounty.com
SUMMARY:Bailey Zimmerman — Different Night\, Same Rodeo Tour 2026 (Pikeville)
DESCRIPTION:The Appalachian Wireless Arena is set to host one of country music’s fastest-rising stars! Bailey Zimmerman is hitting the road with his Different Night\, Same Rodeo Tour 2026\, and he’s bringing the energy to Pikeville\, Kentucky\, on Saturday\, February 28\, 2026\, at 7:00 PM. \nFans can look forward to an unforgettable night of music as Zimmerman\, known for his powerful vocals and heartfelt storytelling\, takes the stage with his chart-topping hits and new favorites. Joining him are special guests Hudson Westbrook and Blake Whiten\, making this an all-star lineup you won’t want to miss. \nWhether you’ve been following Bailey Zimmerman’s career from the start or you’re just discovering his sound\, this show promises the kind of electric atmosphere that only live country music can deliver. \n \nEvent Details\nArtist: Bailey Zimmerman\nTour: Different Night\, Same Rodeo Tour 2026\nSpecial Guests: Hudson Westbrook & Blake Whiten\nDate: Saturday\, February 28\, 2026\nTime: 7:00 PM\nVenue: Appalachian Wireless Arena\, Pikeville\, KY\nTickets: $29.75\, $49.75\, $69.75\, and $89.75 \nPurchase Tickets: Ticketmaster Event Link
URL:https://tourpikecounty.com/event/bailey-zimmerman-different-night-same-rodeo-tour-2026-pikeville/
LOCATION:Appalachian Wireless Arena\, 126 Main St.\, Pikeville\, KY\, 41501\, United States
CATEGORIES:Appalachian Wireless Arena,Live Music
ATTACH;FMTTYPE=image/webp:https://tourpikecounty.com/wp-content/uploads/2025/09/zimmerman-splash.webp
END:VEVENT
END:VCALENDAR